BEGIN:VCALENDAR
VERSION:2.0
PRODID:-//PROBUS St. Catharines - ECPv6.15.20//NONSGML v1.0//EN
CALSCALE:GREGORIAN
METHOD:PUBLISH
X-WR-CALNAME:PROBUS St. Catharines
X-ORIGINAL-URL:https://probusstcatharines.com
X-WR-CALDESC:Events for PROBUS St. Catharines
REFRESH-INTERVAL;VALUE=DURATION:PT1H
X-Robots-Tag:noindex
X-PUBLISHED-TTL:PT1H
BEGIN:VTIMEZONE
TZID:America/Toronto
BEGIN:DAYLIGHT
TZOFFSETFROM:-0500
TZOFFSETTO:-0400
TZNAME:EDT
DTSTART:20200308T070000
END:DAYLIGHT
BEGIN:STANDARD
TZOFFSETFROM:-0400
TZOFFSETTO:-0500
TZNAME:EST
DTSTART:20201101T060000
END:STANDARD
BEGIN:DAYLIGHT
TZOFFSETFROM:-0500
TZOFFSETTO:-0400
TZNAME:EDT
DTSTART:20210314T070000
END:DAYLIGHT
BEGIN:STANDARD
TZOFFSETFROM:-0400
TZOFFSETTO:-0500
TZNAME:EST
DTSTART:20211107T060000
END:STANDARD
BEGIN:DAYLIGHT
TZOFFSETFROM:-0500
TZOFFSETTO:-0400
TZNAME:EDT
DTSTART:20220313T070000
END:DAYLIGHT
BEGIN:STANDARD
TZOFFSETFROM:-0400
TZOFFSETTO:-0500
TZNAME:EST
DTSTART:20221106T060000
END:STANDARD
BEGIN:DAYLIGHT
TZOFFSETFROM:-0500
TZOFFSETTO:-0400
TZNAME:EDT
DTSTART:20230312T070000
END:DAYLIGHT
BEGIN:STANDARD
TZOFFSETFROM:-0400
TZOFFSETTO:-0500
TZNAME:EST
DTSTART:20231105T060000
END:STANDARD
BEGIN:DAYLIGHT
TZOFFSETFROM:-0500
TZOFFSETTO:-0400
TZNAME:EDT
DTSTART:20240310T070000
END:DAYLIGHT
BEGIN:STANDARD
TZOFFSETFROM:-0400
TZOFFSETTO:-0500
TZNAME:EST
DTSTART:20241103T060000
END:STANDARD
END:VTIMEZONE
BEGIN:VEVENT
DTSTART;TZID=America/Toronto:20231124T123000
DTEND;TZID=America/Toronto:20231124T140000
DTSTAMP:20260423T103836
CREATED:20221202T165348Z
LAST-MODIFIED:20231106T165742Z
UID:5082-1700829000-1700834400@probusstcatharines.com
SUMMARY:Romeo Lunch
DESCRIPTION:The monthly Romeo Lunch at the Dalhousie Yacht Club \nGathering time is noon and lunch will be served at 12:30. \nEmily will take the drinks order at your table and payment will be at the table as well – preferably by debit or credit card \nThis is a great opportunity to introduce prospective members to our club.
URL:https://probusstcatharines.com/event/romeo-lunch-20/
LOCATION:Dalhousie Yacht Club\, 74 Lighthouse Rd\, St. Catharines\, Ontario\, Canada
CATEGORIES:Activities,Romeo Lunch
ATTACH;FMTTYPE=image/jpeg:https://probusstcatharines.com/wp-content/uploads/2021/07/pexels-photo-70497-e1634688288182.jpg
END:VEVENT
BEGIN:VEVENT
DTSTART;TZID=America/Toronto:20231027T123000
DTEND;TZID=America/Toronto:20231027T140000
DTSTAMP:20260423T103836
CREATED:20221202T165254Z
LAST-MODIFIED:20231004T014609Z
UID:5080-1698409800-1698415200@probusstcatharines.com
SUMMARY:Romeo Lunch
DESCRIPTION:The monthly Romeo Lunch at the Dalhousie Yacht Club \nGathering time is noon and lunch will be served at 12:30. \nEmily will take the drinks order at your table and payment will be at the table as well – preferably by debit or credit card \nThis is a great opportunity to introduce prospective members to our club.
URL:https://probusstcatharines.com/event/romeo-lunch-19/
LOCATION:Dalhousie Yacht Club\, 74 Lighthouse Rd\, St. Catharines\, Ontario\, Canada
CATEGORIES:Activities,Romeo Lunch
ATTACH;FMTTYPE=image/jpeg:https://probusstcatharines.com/wp-content/uploads/2021/07/pexels-photo-70497-e1634688288182.jpg
END:VEVENT
BEGIN:VEVENT
DTSTART;TZID=America/Toronto:20230927T133000
DTEND;TZID=America/Toronto:20230927T150000
DTSTAMP:20260423T103836
CREATED:20221202T164259Z
LAST-MODIFIED:20221202T165056Z
UID:5069-1695821400-1695826800@probusstcatharines.com
SUMMARY:Romeo Lunch
DESCRIPTION:The monthly Romeo Lunch at the Dalhousie Yacht Club \nGathering time is noon and lunch will be served at 12:30. \nEmily will take the drinks order at your table and payment will be at the table as well – preferably by debit or credit card \nThis is a great opportunity to introduce prospective members to our club.
URL:https://probusstcatharines.com/event/romeo-lunch-15/
LOCATION:Dalhousie Yacht Club\, 74 Lighthouse Rd\, St. Catharines\, Ontario\, Canada
CATEGORIES:Activities,Romeo Lunch
ATTACH;FMTTYPE=image/jpeg:https://probusstcatharines.com/wp-content/uploads/2021/07/pexels-photo-70497-e1634688288182.jpg
END:VEVENT
BEGIN:VEVENT
DTSTART;TZID=America/Toronto:20230830T133000
DTEND;TZID=America/Toronto:20230830T150000
DTSTAMP:20260423T103836
CREATED:20221202T164856Z
LAST-MODIFIED:20221202T164856Z
UID:5077-1693402200-1693407600@probusstcatharines.com
SUMMARY:Romeo Lunch
DESCRIPTION:The monthly Romeo Lunch at the Dalhousie Yacht Club \nGathering time is noon and lunch will be served at 12:30. \nEmily will take the drinks order at your table and payment will be at the table as well – preferably by debit or credit card \nThis is a great opportunity to introduce prospective members to our club.
URL:https://probusstcatharines.com/event/romeo-lunch-18/
LOCATION:Dalhousie Yacht Club\, 74 Lighthouse Rd\, St. Catharines\, Ontario\, Canada
CATEGORIES:Activities,Romeo Lunch
ATTACH;FMTTYPE=image/jpeg:https://probusstcatharines.com/wp-content/uploads/2021/07/pexels-photo-70497-e1634688288182.jpg
END:VEVENT
BEGIN:VEVENT
DTSTART;TZID=America/Toronto:20230726T133000
DTEND;TZID=America/Toronto:20230726T150000
DTSTAMP:20260423T103836
CREATED:20221202T164802Z
LAST-MODIFIED:20221202T164802Z
UID:5075-1690378200-1690383600@probusstcatharines.com
SUMMARY:Romeo Lunch
DESCRIPTION:The monthly Romeo Lunch at the Dalhousie Yacht Club \nGathering time is noon and lunch will be served at 12:30. \nEmily will take the drinks order at your table and payment will be at the table as well – preferably by debit or credit card \nThis is a great opportunity to introduce prospective members to our club.
URL:https://probusstcatharines.com/event/romeo-lunch-17/
LOCATION:Dalhousie Yacht Club\, 74 Lighthouse Rd\, St. Catharines\, Ontario\, Canada
CATEGORIES:Activities,Romeo Lunch
ATTACH;FMTTYPE=image/jpeg:https://probusstcatharines.com/wp-content/uploads/2021/07/pexels-photo-70497-e1634688288182.jpg
END:VEVENT
BEGIN:VEVENT
DTSTART;TZID=America/Toronto:20230628T133000
DTEND;TZID=America/Toronto:20230628T150000
DTSTAMP:20260423T103836
CREATED:20221202T164512Z
LAST-MODIFIED:20221202T164512Z
UID:5071-1687959000-1687964400@probusstcatharines.com
SUMMARY:Romeo Lunch
DESCRIPTION:The monthly Romeo Lunch at the Dalhousie Yacht Club \nGathering time is noon and lunch will be served at 12:30. \nEmily will take the drinks order at your table and payment will be at the table as well – preferably by debit or credit card \nThis is a great opportunity to introduce prospective members to our club.
URL:https://probusstcatharines.com/event/romeo-lunch-16/
LOCATION:Dalhousie Yacht Club\, 74 Lighthouse Rd\, St. Catharines\, Ontario\, Canada
CATEGORIES:Activities,Romeo Lunch
ATTACH;FMTTYPE=image/jpeg:https://probusstcatharines.com/wp-content/uploads/2021/07/pexels-photo-70497-e1634688288182.jpg
END:VEVENT
BEGIN:VEVENT
DTSTART;TZID=America/Toronto:20230426T133000
DTEND;TZID=America/Toronto:20230426T150000
DTSTAMP:20260423T103836
CREATED:20221202T164154Z
LAST-MODIFIED:20221202T164154Z
UID:5067-1682515800-1682521200@probusstcatharines.com
SUMMARY:Romeo Lunch
DESCRIPTION:The monthly Romeo Lunch at the Dalhousie Yacht Club \nGathering time is noon and lunch will be served at 12:30. \nEmily will take the drinks order at your table and payment will be at the table as well – preferably by debit or credit card \nThis is a great opportunity to introduce prospective members to our club.
URL:https://probusstcatharines.com/event/romeo-lunch-14/
LOCATION:Dalhousie Yacht Club\, 74 Lighthouse Rd\, St. Catharines\, Ontario\, Canada
CATEGORIES:Activities,Romeo Lunch
ATTACH;FMTTYPE=image/jpeg:https://probusstcatharines.com/wp-content/uploads/2021/07/pexels-photo-70497-e1634688288182.jpg
END:VEVENT
BEGIN:VEVENT
DTSTART;TZID=America/Toronto:20230329T133000
DTEND;TZID=America/Toronto:20230329T150000
DTSTAMP:20260423T103836
CREATED:20221202T164029Z
LAST-MODIFIED:20221202T164029Z
UID:5065-1680096600-1680102000@probusstcatharines.com
SUMMARY:Romeo Lunch
DESCRIPTION:The monthly Romeo Lunch at the Dalhousie Yacht Club \nGathering time is noon and lunch will be served at 12:30. \nEmily will take the drinks order at your table and payment will be at the table as well – preferably by debit or credit card \nThis is a great opportunity to introduce prospective members to our club.
URL:https://probusstcatharines.com/event/romeo-lunch-13/
LOCATION:Dalhousie Yacht Club\, 74 Lighthouse Rd\, St. Catharines\, Ontario\, Canada
CATEGORIES:Activities,Romeo Lunch
ATTACH;FMTTYPE=image/jpeg:https://probusstcatharines.com/wp-content/uploads/2021/07/pexels-photo-70497-e1634688288182.jpg
END:VEVENT
BEGIN:VEVENT
DTSTART;TZID=America/Toronto:20230301T123000
DTEND;TZID=America/Toronto:20230301T140000
DTSTAMP:20260423T103836
CREATED:20221202T163651Z
LAST-MODIFIED:20221202T163651Z
UID:5063-1677673800-1677679200@probusstcatharines.com
SUMMARY:Romeo Lunch
DESCRIPTION:The monthly Romeo Lunch at the Dalhousie Yacht Club \nGathering time is noon and lunch will be served at 12:30. \nEmily will take the drinks order at your table and payment will be at the table as well – preferably by debit or credit card \nThis is a great opportunity to introduce prospective members to our club.
URL:https://probusstcatharines.com/event/romeo-lunch-12/
LOCATION:Dalhousie Yacht Club\, 74 Lighthouse Rd\, St. Catharines\, Ontario\, Canada
CATEGORIES:Activities,Romeo Lunch
ATTACH;FMTTYPE=image/jpeg:https://probusstcatharines.com/wp-content/uploads/2021/07/pexels-photo-70497-e1634688288182.jpg
END:VEVENT
BEGIN:VEVENT
DTSTART;TZID=America/Toronto:20230125T123000
DTEND;TZID=America/Toronto:20230125T140000
DTSTAMP:20260423T103836
CREATED:20220803T164631Z
LAST-MODIFIED:20220803T164636Z
UID:4854-1674649800-1674655200@probusstcatharines.com
SUMMARY:Romeo Lunch
DESCRIPTION:The monthly Romeo Lunch at the Dalhousie Yacht Club \nGathering time is noon and lunch will be served at 12:30. \nEmily will take the drinks order at your table and payment will be at the table as well – preferably by debit or credit card \nThis is a great opportunity to introduce prospective members to our club.
URL:https://probusstcatharines.com/event/romeo-lunch-11/
LOCATION:Dalhousie Yacht Club\, 74 Lighthouse Rd\, St. Catharines\, Ontario\, Canada
CATEGORIES:Activities,Romeo Lunch
ATTACH;FMTTYPE=image/jpeg:https://probusstcatharines.com/wp-content/uploads/2021/07/pexels-photo-70497-e1634688288182.jpg
END:VEVENT
BEGIN:VEVENT
DTSTART;TZID=America/Toronto:20221123T123000
DTEND;TZID=America/Toronto:20221123T140000
DTSTAMP:20260423T103836
CREATED:20220730T124602Z
LAST-MODIFIED:20220730T124618Z
UID:4841-1669206600-1669212000@probusstcatharines.com
SUMMARY:Romeo Lunch
DESCRIPTION:The monthly Romeo Lunch at the Dalhousie Yacht Club \nGathering time is noon and lunch will be served at 12:30. \nEmily will take the drinks order at your table and payment will be at the table as well – preferably by debit or credit card \nThis is a great opportunity to introduce prospective members to our club.
URL:https://probusstcatharines.com/event/romeo-lunch-10/
LOCATION:Dalhousie Yacht Club\, 74 Lighthouse Rd\, St. Catharines\, Ontario\, Canada
CATEGORIES:Activities,Romeo Lunch
ATTACH;FMTTYPE=image/jpeg:https://probusstcatharines.com/wp-content/uploads/2021/07/pexels-photo-70497-e1634688288182.jpg
END:VEVENT
BEGIN:VEVENT
DTSTART;TZID=America/Toronto:20221026T133000
DTEND;TZID=America/Toronto:20221026T150000
DTSTAMP:20260423T103836
CREATED:20220728T172452Z
LAST-MODIFIED:20220730T124435Z
UID:4831-1666791000-1666796400@probusstcatharines.com
SUMMARY:Romeo Lunch
DESCRIPTION:The monthly Romeo Lunch at the Dalhousie Yacht Club \nGathering time is noon and lunch will be served at 12:30. \nEmily will take the drinks order at your table and payment will be at the table as well – preferably by debit or credit card \nThis is a great opportunity to introduce prospective members to our club.
URL:https://probusstcatharines.com/event/romeo-lunch-9/
LOCATION:Dalhousie Yacht Club\, 74 Lighthouse Rd\, St. Catharines\, Ontario\, Canada
CATEGORIES:Activities,Romeo Lunch
ATTACH;FMTTYPE=image/jpeg:https://probusstcatharines.com/wp-content/uploads/2021/07/pexels-photo-70497-e1634688288182.jpg
END:VEVENT
BEGIN:VEVENT
DTSTART;TZID=America/Toronto:20220928T133000
DTEND;TZID=America/Toronto:20220928T150000
DTSTAMP:20260423T103836
CREATED:20220728T172312Z
LAST-MODIFIED:20220730T124231Z
UID:4829-1664371800-1664377200@probusstcatharines.com
SUMMARY:Romeo Lunch
DESCRIPTION:The monthly Romeo Lunch at the Dalhousie Yacht Club \nGathering time is noon and lunch will be served at 12:30. \nEmily will take the drinks order at your table and payment will be at the table as well – preferably by debit or credit card \nThis is a great opportunity to introduce prospective members to our club.
URL:https://probusstcatharines.com/event/romeo-lunch-8/
LOCATION:Dalhousie Yacht Club\, 74 Lighthouse Rd\, St. Catharines\, Ontario\, Canada
CATEGORIES:Activities,Romeo Lunch
ATTACH;FMTTYPE=image/jpeg:https://probusstcatharines.com/wp-content/uploads/2021/07/pexels-photo-70497-e1634688288182.jpg
END:VEVENT
BEGIN:VEVENT
DTSTART;TZID=America/Toronto:20220831T133000
DTEND;TZID=America/Toronto:20220831T150000
DTSTAMP:20260423T103836
CREATED:20220727T212252Z
LAST-MODIFIED:20220730T124122Z
UID:4814-1661952600-1661958000@probusstcatharines.com
SUMMARY:Romeo Lunch
DESCRIPTION:The monthly Romeo Lunch at the Dalhousie Yacht Club \nGathering time is noon and lunch will be served at 12:30. \nEmily will take the drinks order at your table and payment will be at the table as well – preferably by debit or credit card \nThis is a great opportunity to introduce prospective members to our club.
URL:https://probusstcatharines.com/event/romeo-lunch-7/
LOCATION:Dalhousie Yacht Club\, 74 Lighthouse Rd\, St. Catharines\, Ontario\, Canada
CATEGORIES:Activities,Romeo Lunch
ATTACH;FMTTYPE=image/jpeg:https://probusstcatharines.com/wp-content/uploads/2021/07/pexels-photo-70497-e1634688288182.jpg
END:VEVENT
BEGIN:VEVENT
DTSTART;TZID=America/Toronto:20220427T083000
DTEND;TZID=America/Toronto:20220427T100000
DTSTAMP:20260423T103836
CREATED:20220204T200546Z
LAST-MODIFIED:20220204T200614Z
UID:4552-1651048200-1651053600@probusstcatharines.com
SUMMARY:Romeo Lunch
DESCRIPTION:the Dalhousie Yacht Club \n 
URL:https://probusstcatharines.com/event/romeo-lunch-5/
LOCATION:Dalhousie Yacht Club\, 74 Lighthouse Rd\, St. Catharines\, Ontario\, Canada
CATEGORIES:Activities,Romeo Lunch
ATTACH;FMTTYPE=image/jpeg:https://probusstcatharines.com/wp-content/uploads/2021/07/pexels-photo-70497-e1634688288182.jpg
END:VEVENT
BEGIN:VEVENT
DTSTART;TZID=America/Toronto:20220330T083000
DTEND;TZID=America/Toronto:20220330T100000
DTSTAMP:20260423T103836
CREATED:20220208T181632Z
LAST-MODIFIED:20220326T125242Z
UID:4557-1648629000-1648634400@probusstcatharines.com
SUMMARY:Romeo Lunch
DESCRIPTION:The monthly Romeo Lunch at the Dalhousie Yacht Club \nGathering time is noon and lunch will be served at 12:30. \nFace masks are optional \nEmily will take the drinks order at your table and payment will be at the table as well – preferably by debit or credit card. \nAs usual lunch will be “Chef Edward’s surprise” sandwich with your choice of salad or fries + dessert and tea or coffee. \nThis is a great opportunity to introduce prospective members to our club.
URL:https://probusstcatharines.com/event/romeo-lunch-6/
LOCATION:Dalhousie Yacht Club\, 74 Lighthouse Rd\, St. Catharines\, Ontario\, Canada
CATEGORIES:Activities,Romeo Lunch
ATTACH;FMTTYPE=image/jpeg:https://probusstcatharines.com/wp-content/uploads/2021/07/pexels-photo-70497-e1634688288182.jpg
END:VEVENT
BEGIN:VEVENT
DTSTART;TZID=America/Toronto:20220302T073000
DTEND;TZID=America/Toronto:20220302T090000
DTSTAMP:20260423T103836
CREATED:20220204T194755Z
LAST-MODIFIED:20220227T205841Z
UID:4543-1646206200-1646211600@probusstcatharines.com
SUMMARY:Romeo Lunch Mar.2nd (replaces cancelled lunch Feb 23rd.)
DESCRIPTION:The monthly Romeo Lunch slated for February 23 has been rescheduled for Wednesday March 2 at 12 noon because the Dalhousie Yacht Club will be closed during February. \nGathering time is noon and lunch will be served at 12:30. \nFace masks are still required\, however proof of COVID vaccinations are at the discretion of the restaurant but since I don’t know what the yacht club policy will be I suggest you have proof  with you. \nEmily will take the drinks order at your table and payment will be at the table as well – preferably by debit or credit card. \nAs usual lunch will be “Chef Edward’s surprise” sandwich with your choice of salad or fries + dessert and tea or coffee. \n 
URL:https://probusstcatharines.com/event/romeo-lunch-mar-2nd/
LOCATION:Dalhousie Yacht Club\, 74 Lighthouse Rd\, St. Catharines\, Ontario\, Canada
CATEGORIES:Activities,Romeo Lunch
ATTACH;FMTTYPE=image/jpeg:https://probusstcatharines.com/wp-content/uploads/2021/07/pexels-photo-70497-e1634688288182.jpg
END:VEVENT
BEGIN:VEVENT
DTSTART;TZID=America/Toronto:20211124T073000
DTEND;TZID=America/Toronto:20211124T083000
DTSTAMP:20260423T103836
CREATED:20210712T214117Z
LAST-MODIFIED:20211122T015025Z
UID:2737-1637739000-1637742600@probusstcatharines.com
SUMMARY:Romeo Lunch
DESCRIPTION:Gentlemen our Romeo lunch at the Dalhousie Yacht Club is this coming Wednesday\, November 24th. Gathering time is noon and lunch will be served at 12:30. Last month we had an excellent turnout of 23 people. \nEmily will take the drinks order at your table and payment will be at the table as well – preferably by debit or credit card. \nAs usual lunch will be “Chef Edward’s surprise” sandwich with your choice of salad or fries + dessert and tea or coffee. \nThis is a great opportunity to introduce prospective members to our club. \nCOVID-19 protocols require us to show proof of both vaccinations (image of your vaccine certificate on your cell phone or a paper copy) & proof of identity (driver permit or green OHIP card) and wear your mask entering and leaving. \n \nCongratulations to chef Ed Fox who has been voted “Best Local Chef” In the Readers’ Choice Awards \n  \nIf you haven’t yet booked for the Christmas Lunch December 15th.\, please don’t delay. We now have 47 people booked and our max is 50.
URL:https://probusstcatharines.com/event/romeo-lunch-4/
LOCATION:Dalhousie Yacht Club\, 74 Lighthouse Rd\, St. Catharines\, Ontario\, Canada
CATEGORIES:Activities,Romeo Lunch
ATTACH;FMTTYPE=image/jpeg:https://probusstcatharines.com/wp-content/uploads/2021/07/pexels-photo-70497-e1634688288182.jpg
END:VEVENT
BEGIN:VEVENT
DTSTART;TZID=America/Toronto:20211027T083000
DTEND;TZID=America/Toronto:20211027T093000
DTSTAMP:20260423T103836
CREATED:20210712T213922Z
LAST-MODIFIED:20210808T203003Z
UID:2731-1635323400-1635327000@probusstcatharines.com
SUMMARY:Romeo Lunch
DESCRIPTION:Romeo lunches are back at the Dalhousie Yacht Club. Gathering time is noon and lunch will be served at 12:30.\nEmily will take the drinks order at your table and payment will be at the table as well – preferably by debit or credit card.\nAs usual lunch will be “Chef Edward’s surprise” sandwich with your choice of salad or fries + dessert and tea or coffee.
URL:https://probusstcatharines.com/event/romeo-lunch-3/
LOCATION:Dalhousie Yacht Club\, 74 Lighthouse Rd\, St. Catharines\, Ontario\, Canada
CATEGORIES:Activities,Romeo Lunch
ATTACH;FMTTYPE=image/jpeg:https://probusstcatharines.com/wp-content/uploads/2021/07/pexels-photo-70497-e1634688288182.jpg
END:VEVENT
BEGIN:VEVENT
DTSTART;TZID=America/Toronto:20210929T083000
DTEND;TZID=America/Toronto:20210929T093000
DTSTAMP:20260423T103836
CREATED:20210712T213843Z
LAST-MODIFIED:20210808T203015Z
UID:2727-1632904200-1632907800@probusstcatharines.com
SUMMARY:Romeo Lunch
DESCRIPTION:Romeo lunches are back at the Dalhousie Yacht Club. Gathering time is noon and lunch will be served at 12:30.\nEmily will take the drinks order at your table and payment will be at the table as well – preferably by debit or credit card.\nAs usual lunch will be “Chef Edward’s surprise” sandwich with your choice of salad or fries + dessert and tea or coffee.
URL:https://probusstcatharines.com/event/romeo-lunch-2/
LOCATION:Dalhousie Yacht Club\, 74 Lighthouse Rd\, St. Catharines\, Ontario\, Canada
CATEGORIES:Activities,Romeo Lunch
ATTACH;FMTTYPE=image/jpeg:https://probusstcatharines.com/wp-content/uploads/2021/07/pexels-photo-70497-e1634688288182.jpg
END:VEVENT
BEGIN:VEVENT
DTSTART;TZID=America/Toronto:20210825T083000
DTEND;TZID=America/Toronto:20210825T093000
DTSTAMP:20260423T103836
CREATED:20210712T213549Z
LAST-MODIFIED:20210808T203224Z
UID:2717-1629880200-1629883800@probusstcatharines.com
SUMMARY:Romeo Lunch
DESCRIPTION:Gentlemen our Romeo lunches are back beginning August 25th at the Dalhousie Yacht Club. Gathering time is noon and lunch will be served at 12:30.\nEmily will take the drinks order at your table and payment will be at the table as well – preferably by debit or credit card.\nAs usual lunch will be “Chef Edward’s surprise” sandwich with your choice of salad or fries + dessert and tea or coffee.\n \nOur club group breakfast is Tuesday\, August 17 at 8;30 at Johnny Pastrami’s on Lake St in the Club Heidelberg building. Please use the side entrance.\n \nFor both functions COVID-19 protocols will be in place so wear your mask entering and leaving. I hope I am right in assuming that all of you attending have been double vaccinated against COVID.
URL:https://probusstcatharines.com/event/romeo-lunch/
LOCATION:Dalhousie Yacht Club\, 74 Lighthouse Rd\, St. Catharines\, Ontario\, Canada
CATEGORIES:Activities,Romeo Lunch
ATTACH;FMTTYPE=image/jpeg:https://probusstcatharines.com/wp-content/uploads/2021/07/pexels-photo-70497-e1634688288182.jpg
END:VEVENT
END:VCALENDAR